BEGIN:VCALENDAR
PRODID:-//MatrixMaxx//RemoteApi//EN
VERSION:2.0
METHOD:PUBLISH
CALSCALE:GREGORIAN
X-ORIGINAL-URL:http://www.aipn.maxx.matrixdev.net/forms/meeting/MeetingFormPublic/view?id=101E800000020
BEGIN:VEVENT
SUMMARY:US Chapter Holiday Reception Houston
LAST-MODIFIED:20181207T003000Z
UID:ci_101E800000020@matrixgroup.net
CLASS:PUBLIC
CREATED:20181207T003000Z
DTSTAMP:20181207T003000Z
DTSTART:20181207T003000Z
X-FUNAMBOL-ALLDAY:1
LOCATION:Tony%27s
DESCRIPTION:For full info see http://www.aipn.maxx.matrixdev.net/forms/meeting/MeetingFormPublic/view?id=101E800000020\n
DTEND:20181207T023000Z
URL:http://www.aipn.maxx.matrixdev.net/forms/meeting/MeetingFormPublic/view?id=101E800000020
END:VEVENT
END:VCALENDAR