BEGIN:VCALENDAR
PRODID:-//MatrixMaxx//RemoteApi//EN
VERSION:2.0
METHOD:PUBLISH
CALSCALE:GREGORIAN
X-ORIGINAL-URL:http://www.aipn.maxx.matrixdev.net/forms/meeting/MeetingFormPublic/view?id=103C6000003E6
BEGIN:VEVENT
SUMMARY:Australia-Pacific Chapter & Australian Institute of Energy Event "Importing LNG into NSW and the Bigger Picture"
LAST-MODIFIED:20180822T071500Z
UID:ci_103C6000003E6@matrixgroup.net
CLASS:PUBLIC
CREATED:20180822T071500Z
DTSTAMP:20180822T071500Z
DTSTART:20180822T071500Z
X-FUNAMBOL-ALLDAY:1
LOCATION:Allens
DESCRIPTION:For+full+info+see+http%3A%2F%2Fwww.aipn.maxx.matrixdev.net%2Fforms%2Fmeeting%2FMeetingFormPublic%2Fview%3Fid%3D103C6000003E6%0A
X-WR-CALDESC:For+full+info+see+http%3A%2F%2Fwww.aipn.maxx.matrixdev.net%2Fforms%2Fmeeting%2FMeetingFormPublic%2Fview%3Fid%3D103C6000003E6%0A
X-WR-CALNAME:Maxx Calendar
DTEND:20180822T093000Z
URL:http://www.aipn.maxx.matrixdev.net/forms/meeting/MeetingFormPublic/view?id=103C6000003E6
END:VEVENT
END:VCALENDAR