BEGIN:VCALENDAR
PRODID:-//MatrixMaxx//RemoteApi//EN
VERSION:2.0
METHOD:PUBLISH
CALSCALE:GREGORIAN
X-ORIGINAL-URL:http://www.aipn.maxx.matrixdev.net/forms/meeting/Microsite/Webinar20June2024
BEGIN:VEVENT
SUMMARY:Live Webinar: "The Energy Transition - What is Fit for Purpose for Sub-Saharan Africa?"
LAST-MODIFIED:20240620T140000Z
UID:ci_10668600000001@matrixgroup.net
CLASS:PUBLIC
CREATED:20240620T140000Z
DTSTAMP:20240620T140000Z
DTSTART:20240620T140000Z
X-FUNAMBOL-ALLDAY:1
LOCATION:Live+Webinar
DESCRIPTION:For+full+info+see+http%3A%2F%2Fwww.aipn.maxx.matrixdev.net%2Fforms%2Fmeeting%2FMicrosite%2FWebinar20June2024%0A
X-WR-CALDESC:For+full+info+see+http%3A%2F%2Fwww.aipn.maxx.matrixdev.net%2Fforms%2Fmeeting%2FMicrosite%2FWebinar20June2024%0A
X-WR-CALNAME:Maxx Calendar
DTEND:20240620T153000Z
URL:http://www.aipn.maxx.matrixdev.net/forms/meeting/Microsite/Webinar20June2024
END:VEVENT
END:VCALENDAR