BEGIN:VCALENDAR
PRODID:-//MatrixMaxx//RemoteApi//EN
VERSION:2.0
METHOD:PUBLISH
CALSCALE:GREGORIAN
X-ORIGINAL-URL:http://www.aipn.maxx.matrixdev.net/forms/meeting/MeetingFormPublic/view?id=107E5000001C0
BEGIN:VEVENT
SUMMARY:Europe Chapter Event "Managing Environmental and Safety Risk in Global Oil and Gas Companies"
LAST-MODIFIED:20181120T170000Z
UID:ci_107E5000001C0@matrixgroup.net
CLASS:PUBLIC
CREATED:20181120T170000Z
DTSTAMP:20181120T170000Z
DTSTART:20181120T170000Z
X-FUNAMBOL-ALLDAY:1
LOCATION:Dentons
DESCRIPTION:For full info see http://www.aipn.maxx.matrixdev.net/forms/meeting/MeetingFormPublic/view?id=107E5000001C0\n
DTEND:20181120T190000Z
URL:http://www.aipn.maxx.matrixdev.net/forms/meeting/MeetingFormPublic/view?id=107E5000001C0
END:VEVENT
END:VCALENDAR