BEGIN:VCALENDAR
PRODID:-//MatrixMaxx//RemoteApi//EN
VERSION:2.0
METHOD:PUBLISH
CALSCALE:GREGORIAN
X-ORIGINAL-URL:http://www.aipn.maxx.matrixdev.net/forms/meeting/MeetingFormPublic/view?id=10A59000003D0
BEGIN:VEVENT
SUMMARY:CIS-FSU Chapter & Kazakhstan Bar Association Event "Local Content in Petroleum Industry: International Practice and Kazakhstan Perspectives"
LAST-MODIFIED:20180824T040000Z
UID:ci_10A59000003D0@matrixgroup.net
CLASS:PUBLIC
CREATED:20180824T040000Z
DTSTAMP:20180824T040000Z
DTSTART:20180824T040000Z
X-FUNAMBOL-ALLDAY:1
LOCATION:KIMEP+University
DESCRIPTION:For+full+info+see+http%3A%2F%2Fwww.aipn.maxx.matrixdev.net%2Fforms%2Fmeeting%2FMeetingFormPublic%2Fview%3Fid%3D10A59000003D0%0A
X-WR-CALDESC:For+full+info+see+http%3A%2F%2Fwww.aipn.maxx.matrixdev.net%2Fforms%2Fmeeting%2FMeetingFormPublic%2Fview%3Fid%3D10A59000003D0%0A
X-WR-CALNAME:Maxx Calendar
DTEND:20180824T070000Z
URL:http://www.aipn.maxx.matrixdev.net/forms/meeting/MeetingFormPublic/view?id=10A59000003D0
END:VEVENT
END:VCALENDAR