BEGIN:VCALENDAR
PRODID:-//MatrixMaxx//RemoteApi//EN
VERSION:2.0
METHOD:PUBLISH
CALSCALE:GREGORIAN
X-ORIGINAL-URL:http://www.aipn.maxx.matrixdev.net/forms/meeting/Microsite/20september2018CISFSU
BEGIN:VEVENT
SUMMARY:CIS-FSU Chapter Event "Gas Export Pipelines from Russia: Economics and Politics"
LAST-MODIFIED:20180920T150000Z
UID:ci_10FDF00000002@matrixgroup.net
CLASS:PUBLIC
CREATED:20180920T150000Z
DTSTAMP:20180920T150000Z
DTSTART:20180920T150000Z
X-FUNAMBOL-ALLDAY:1
LOCATION:Dentons+Offices
DESCRIPTION:For+full+info+see+http%3A%2F%2Fwww.aipn.maxx.matrixdev.net%2Fforms%2Fmeeting%2FMicrosite%2F20september2018CISFSU%0A
X-WR-CALDESC:For+full+info+see+http%3A%2F%2Fwww.aipn.maxx.matrixdev.net%2Fforms%2Fmeeting%2FMicrosite%2F20september2018CISFSU%0A
X-WR-CALNAME:Maxx Calendar
DTEND:20180920T183000Z
URL:http://www.aipn.maxx.matrixdev.net/forms/meeting/Microsite/20september2018CISFSU
END:VEVENT
END:VCALENDAR