BEGIN:VCALENDAR
PRODID:-//MatrixMaxx//RemoteApi//EN
VERSION:2.0
METHOD:PUBLISH
CALSCALE:GREGORIAN
X-ORIGINAL-URL:http://www.aipn.maxx.matrixdev.net/forms/meeting/MeetingFormPublic/view?id=11DAD0000005B
BEGIN:VEVENT
SUMMARY:AIPN-YN Canada Chapter Speed Networking Event
LAST-MODIFIED:20181017T230000Z
UID:ci_11DAD0000005B@matrixgroup.net
CLASS:PUBLIC
CREATED:20181017T230000Z
DTSTAMP:20181017T230000Z
DTSTART:20181017T230000Z
X-FUNAMBOL-ALLDAY:1
LOCATION:Craft+Beer+Market
DESCRIPTION:For+full+info+see+http%3A%2F%2Fwww.aipn.maxx.matrixdev.net%2Fforms%2Fmeeting%2FMeetingFormPublic%2Fview%3Fid%3D11DAD0000005B%0A
X-WR-CALDESC:For+full+info+see+http%3A%2F%2Fwww.aipn.maxx.matrixdev.net%2Fforms%2Fmeeting%2FMeetingFormPublic%2Fview%3Fid%3D11DAD0000005B%0A
X-WR-CALNAME:Maxx Calendar
DTEND:20181018T013000Z
URL:http://www.aipn.maxx.matrixdev.net/forms/meeting/MeetingFormPublic/view?id=11DAD0000005B
END:VEVENT
END:VCALENDAR