BEGIN:VCALENDAR
PRODID:-//MatrixMaxx//RemoteApi//EN
VERSION:2.0
METHOD:PUBLISH
CALSCALE:GREGORIAN
X-ORIGINAL-URL:http://www.aipn.maxx.matrixdev.net/forms/meeting/Microsite/Asia1November2018
BEGIN:VEVENT
SUMMARY:Japan Sub-chapter Event "Logistical Challenges of the Yamal LNG Project"
LAST-MODIFIED:20181101T100000Z
UID:ci_11FF100006921@matrixgroup.net
CLASS:PUBLIC
CREATED:20181101T100000Z
DTSTAMP:20181101T100000Z
DTSTART:20181101T100000Z
X-FUNAMBOL-ALLDAY:1
LOCATION:Mitsui+Oil+Exploration+Co.%2C+Ltd.%2C+Hibiya+Central+Bldg.
DESCRIPTION:For+full+info+see+http%3A%2F%2Fwww.aipn.maxx.matrixdev.net%2Fforms%2Fmeeting%2FMicrosite%2FAsia1November2018%0A
X-WR-CALDESC:For+full+info+see+http%3A%2F%2Fwww.aipn.maxx.matrixdev.net%2Fforms%2Fmeeting%2FMicrosite%2FAsia1November2018%0A
X-WR-CALNAME:Maxx Calendar
DTEND:20181101T111500Z
URL:http://www.aipn.maxx.matrixdev.net/forms/meeting/Microsite/Asia1November2018
END:VEVENT
END:VCALENDAR