BEGIN:VCALENDAR
PRODID:-//MatrixMaxx//RemoteApi//EN
VERSION:2.0
METHOD:PUBLISH
CALSCALE:GREGORIAN
X-ORIGINAL-URL:http://www.aipn.maxx.matrixdev.net/forms/meeting/MeetingFormPublic/view?id=12EF5000007F4
BEGIN:VEVENT
SUMMARY:Europe Chapter Event "Explaining the New Draft Asset SPA Model Form" - Aberdeen
LAST-MODIFIED:20181122T163000Z
UID:ci_12EF5000007F4@matrixgroup.net
CLASS:PUBLIC
CREATED:20181122T163000Z
DTSTAMP:20181122T163000Z
DTSTART:20181122T163000Z
X-FUNAMBOL-ALLDAY:1
LOCATION:Ledingham+Chalmers+LLP
DESCRIPTION:For full info see http://www.aipn.maxx.matrixdev.net/forms/meeting/MeetingFormPublic/view?id=12EF5000007F4\n
DTEND:20181122T193000Z
URL:http://www.aipn.maxx.matrixdev.net/forms/meeting/MeetingFormPublic/view?id=12EF5000007F4
END:VEVENT
END:VCALENDAR