BEGIN:VCALENDAR
PRODID:-//MatrixMaxx//RemoteApi//EN
VERSION:2.0
METHOD:PUBLISH
CALSCALE:GREGORIAN
X-ORIGINAL-URL:http://www.aipn.maxx.matrixdev.net/forms/meeting/Microsite/2018Europe4December2018
BEGIN:VEVENT
SUMMARY:Europe Chapter & EVOLEN Event "Eastern Mediterranean Gas Challenges"
LAST-MODIFIED:20181204T173000Z
UID:ci_1328500000174@matrixgroup.net
CLASS:PUBLIC
CREATED:20181204T173000Z
DTSTAMP:20181204T173000Z
DTSTART:20181204T173000Z
X-FUNAMBOL-ALLDAY:1
LOCATION:Herbert+Smith+Freehills
DESCRIPTION:For+full+info+see+http%3A%2F%2Fwww.aipn.maxx.matrixdev.net%2Fforms%2Fmeeting%2FMicrosite%2F2018Europe4December2018%0A
X-WR-CALDESC:For+full+info+see+http%3A%2F%2Fwww.aipn.maxx.matrixdev.net%2Fforms%2Fmeeting%2FMicrosite%2F2018Europe4December2018%0A
X-WR-CALNAME:Maxx Calendar
DTEND:20181204T193000Z
URL:http://www.aipn.maxx.matrixdev.net/forms/meeting/Microsite/2018Europe4December2018
END:VEVENT
END:VCALENDAR