BEGIN:VCALENDAR
PRODID:-//MatrixMaxx//RemoteApi//EN
VERSION:2.0
METHOD:PUBLISH
CALSCALE:GREGORIAN
X-ORIGINAL-URL:http://www.aipn.maxx.matrixdev.net/forms/meeting/MeetingFormPublic/view?id=132870000003C
BEGIN:VEVENT
SUMMARY:CIS-FSU Chapter Event "HR and HSE Compliance in the Petroleum Industry of Azerbaijan: Recent Trends and Perspectives"
LAST-MODIFIED:20181122T103000Z
UID:ci_132870000003C@matrixgroup.net
CLASS:PUBLIC
CREATED:20181122T103000Z
DTSTAMP:20181122T103000Z
DTSTART:20181122T103000Z
X-FUNAMBOL-ALLDAY:1
LOCATION:Four+Seasons+Hotel
DESCRIPTION:For+full+info+see+http%3A%2F%2Fwww.aipn.maxx.matrixdev.net%2Fforms%2Fmeeting%2FMeetingFormPublic%2Fview%3Fid%3D132870000003C%0A
X-WR-CALDESC:For+full+info+see+http%3A%2F%2Fwww.aipn.maxx.matrixdev.net%2Fforms%2Fmeeting%2FMeetingFormPublic%2Fview%3Fid%3D132870000003C%0A
X-WR-CALNAME:Maxx Calendar
DTEND:20181122T140000Z
URL:http://www.aipn.maxx.matrixdev.net/forms/meeting/MeetingFormPublic/view?id=132870000003C
END:VEVENT
END:VCALENDAR