BEGIN:VCALENDAR
PRODID:-//MatrixMaxx//RemoteApi//EN
VERSION:2.0
METHOD:PUBLISH
CALSCALE:GREGORIAN
X-ORIGINAL-URL:http://www.aipn.maxx.matrixdev.net/forms/meeting/MeetingFormPublic/view?id=134A90000001B
BEGIN:VEVENT
SUMMARY:Europe Chapter Holiday Reception
LAST-MODIFIED:20181213T183000Z
UID:ci_134A90000001B@matrixgroup.net
CLASS:PUBLIC
CREATED:20181213T183000Z
DTSTAMP:20181213T183000Z
DTSTART:20181213T183000Z
X-FUNAMBOL-ALLDAY:1
LOCATION:Reform+Club
DESCRIPTION:For+full+info+see+http%3A%2F%2Fwww.aipn.maxx.matrixdev.net%2Fforms%2Fmeeting%2FMeetingFormPublic%2Fview%3Fid%3D134A90000001B%0A
X-WR-CALDESC:For+full+info+see+http%3A%2F%2Fwww.aipn.maxx.matrixdev.net%2Fforms%2Fmeeting%2FMeetingFormPublic%2Fview%3Fid%3D134A90000001B%0A
X-WR-CALNAME:Maxx Calendar
DTEND:20181213T210000Z
URL:http://www.aipn.maxx.matrixdev.net/forms/meeting/MeetingFormPublic/view?id=134A90000001B
END:VEVENT
END:VCALENDAR