BEGIN:VCALENDAR
PRODID:-//MatrixMaxx//RemoteApi//EN
VERSION:2.0
METHOD:PUBLISH
CALSCALE:GREGORIAN
X-ORIGINAL-URL:http://www.aipn.maxx.matrixdev.net/forms/meeting/MeetingFormPublic/view?id=13B540000006E
BEGIN:VEVENT
SUMMARY:AIPN-YN CIS-FSU Chapter Event "Why LNG is Compelling for Russia" & Holiday Reception
LAST-MODIFIED:20181203T160000Z
UID:ci_13B540000006E@matrixgroup.net
CLASS:PUBLIC
CREATED:20181203T160000Z
DTSTAMP:20181203T160000Z
DTSTART:20181203T160000Z
X-FUNAMBOL-ALLDAY:1
LOCATION:King+%26+Spalding
DESCRIPTION:For+full+info+see+http%3A%2F%2Fwww.aipn.maxx.matrixdev.net%2Fforms%2Fmeeting%2FMeetingFormPublic%2Fview%3Fid%3D13B540000006E%0A
X-WR-CALDESC:For+full+info+see+http%3A%2F%2Fwww.aipn.maxx.matrixdev.net%2Fforms%2Fmeeting%2FMeetingFormPublic%2Fview%3Fid%3D13B540000006E%0A
X-WR-CALNAME:Maxx Calendar
DTEND:20181203T183000Z
URL:http://www.aipn.maxx.matrixdev.net/forms/meeting/MeetingFormPublic/view?id=13B540000006E
END:VEVENT
END:VCALENDAR