BEGIN:VCALENDAR
PRODID:-//MatrixMaxx//RemoteApi//EN
VERSION:2.0
METHOD:PUBLISH
CALSCALE:GREGORIAN
X-ORIGINAL-URL:http://www.aipn.maxx.matrixdev.net/forms/meeting/Microsite/US7November2024
BEGIN:VEVENT
SUMMARY:US Chapter Distinguished Negotiators Event
LAST-MODIFIED:20241108T000000Z
UID:ci_17370800000001@matrixgroup.net
CLASS:PUBLIC
CREATED:20241108T000000Z
DTSTAMP:20241108T000000Z
DTSTART:20241108T000000Z
X-FUNAMBOL-ALLDAY:1
LOCATION:Event+Space+Unlimited
DESCRIPTION:For full info see http://www.aipn.maxx.matrixdev.net/forms/meeting/Microsite/US7November2024\n
DTEND:20241108T030000Z
URL:http://www.aipn.maxx.matrixdev.net/forms/meeting/Microsite/US7November2024
END:VEVENT
END:VCALENDAR