BEGIN:VCALENDAR
PRODID:-//MatrixMaxx//RemoteApi//EN
VERSION:2.0
METHOD:PUBLISH
CALSCALE:GREGORIAN
X-ORIGINAL-URL:http://www.aipn.maxx.matrixdev.net/forms/meeting/Microsite/Europe2October2024
BEGIN:VEVENT
SUMMARY:Europe Chapter Event "Reflections and Survival Stories from Joint Ventures"
LAST-MODIFIED:20241002T170000Z
UID:ci_1BA7F400000002@matrixgroup.net
CLASS:PUBLIC
CREATED:20241002T170000Z
DTSTAMP:20241002T170000Z
DTSTART:20241002T170000Z
X-FUNAMBOL-ALLDAY:1
LOCATION:Dentons+UK+and+Middle+East+LLP
DESCRIPTION:For+full+info+see+http%3A%2F%2Fwww.aipn.maxx.matrixdev.net%2Fforms%2Fmeeting%2FMicrosite%2FEurope2October2024%0A
X-WR-CALDESC:For+full+info+see+http%3A%2F%2Fwww.aipn.maxx.matrixdev.net%2Fforms%2Fmeeting%2FMicrosite%2FEurope2October2024%0A
X-WR-CALNAME:Maxx Calendar
DTEND:20241002T190000Z
URL:http://www.aipn.maxx.matrixdev.net/forms/meeting/Microsite/Europe2October2024
END:VEVENT
END:VCALENDAR