BEGIN:VCALENDAR
PRODID:-//MatrixMaxx//RemoteApi//EN
VERSION:2.0
METHOD:PUBLISH
CALSCALE:GREGORIAN
X-ORIGINAL-URL:http://www.aipn.maxx.matrixdev.net/forms/meeting/Microsite/AP31October2024
BEGIN:VEVENT
SUMMARY:Australia-Pacific Chapter Event "New Offshore Hydrocarbon Opportunities in PNG"
LAST-MODIFIED:20241031T090000Z
UID:ci_21FD1A00000001@matrixgroup.net
CLASS:PUBLIC
CREATED:20241031T090000Z
DTSTAMP:20241031T090000Z
DTSTART:20241031T090000Z
X-FUNAMBOL-ALLDAY:1
LOCATION:Corrs+Chambers+Westgarth
DESCRIPTION:For+full+info+see+http%3A%2F%2Fwww.aipn.maxx.matrixdev.net%2Fforms%2Fmeeting%2FMicrosite%2FAP31October2024%0A
X-WR-CALDESC:For+full+info+see+http%3A%2F%2Fwww.aipn.maxx.matrixdev.net%2Fforms%2Fmeeting%2FMicrosite%2FAP31October2024%0A
X-WR-CALNAME:Maxx Calendar
DTEND:20241031T110000Z
URL:http://www.aipn.maxx.matrixdev.net/forms/meeting/Microsite/AP31October2024
END:VEVENT
END:VCALENDAR