BEGIN:VCALENDAR
PRODID:-//MatrixMaxx//RemoteApi//EN
VERSION:2.0
METHOD:PUBLISH
CALSCALE:GREGORIAN
X-ORIGINAL-URL:http://www.aipn.maxx.matrixdev.net/forms/meeting/Microsite/MCWS2025
BEGIN:VEVENT
SUMMARY:2025 Model Contracts Workshop
LAST-MODIFIED:20250908
UID:ci_240D7A00000006@matrixgroup.net
CLASS:PUBLIC
CREATED:20250908
DTSTAMP:20250908
DTSTART:20250908
X-FUNAMBOL-ALLDAY:1
LOCATION:Sofitel+Nusa+Dua
DESCRIPTION:For full info see http://www.aipn.maxx.matrixdev.net/forms/meeting/Microsite/MCWS2025\n2025 AIEN Model Contracts Workshop\nBali, Indonesia\nSofitel Bali Nusa Dua Resort
DTEND:20250912
URL:http://www.aipn.maxx.matrixdev.net/forms/meeting/Microsite/MCWS2025
END:VEVENT
END:VCALENDAR