BEGIN:VCALENDAR
PRODID:-//MatrixMaxx//RemoteApi//EN
VERSION:2.0
METHOD:PUBLISH
CALSCALE:GREGORIAN
X-ORIGINAL-URL:http://www.aipn.maxx.matrixdev.net/forms/meeting/Microsite/US14October2024
BEGIN:VEVENT
SUMMARY:US Chapter Women in Energy Networking Dinner
LAST-MODIFIED:20241015T000000Z
UID:ci_243AC800000002@matrixgroup.net
CLASS:PUBLIC
CREATED:20241015T000000Z
DTSTAMP:20241015T000000Z
DTSTART:20241015T000000Z
X-FUNAMBOL-ALLDAY:1
LOCATION:Cyclone+Anaya%27s+Tex-Mex+Kitchen
DESCRIPTION:For+full+info+see+http%3A%2F%2Fwww.aipn.maxx.matrixdev.net%2Fforms%2Fmeeting%2FMicrosite%2FUS14October2024%0A
X-WR-CALDESC:For+full+info+see+http%3A%2F%2Fwww.aipn.maxx.matrixdev.net%2Fforms%2Fmeeting%2FMicrosite%2FUS14October2024%0A
X-WR-CALNAME:Maxx Calendar
DTEND:20241015T030000Z
URL:http://www.aipn.maxx.matrixdev.net/forms/meeting/Microsite/US14October2024
END:VEVENT
END:VCALENDAR