BEGIN:VCALENDAR
PRODID:-//MatrixMaxx//RemoteApi//EN
VERSION:2.0
METHOD:PUBLISH
CALSCALE:GREGORIAN
X-ORIGINAL-URL:http://www.aipn.maxx.matrixdev.net/forms/meeting/Microsite/Europe19September2024
BEGIN:VEVENT
SUMMARY:Europe Chapter Hybrid Event "Renewable Energies Intermittency Management"
LAST-MODIFIED:20240919T150000Z
UID:ci_25391600000002@matrixgroup.net
CLASS:PUBLIC
CREATED:20240919T150000Z
DTSTAMP:20240919T150000Z
DTSTART:20240919T150000Z
X-FUNAMBOL-ALLDAY:1
LOCATION:In-Person+Event+and+Live+Webinar
DESCRIPTION:For full info see http://www.aipn.maxx.matrixdev.net/forms/meeting/Microsite/Europe19September2024\n
DTEND:20240919T180000Z
URL:http://www.aipn.maxx.matrixdev.net/forms/meeting/Microsite/Europe19September2024
END:VEVENT
END:VCALENDAR