BEGIN:VCALENDAR
PRODID:-//MatrixMaxx//RemoteApi//EN
VERSION:2.0
METHOD:PUBLISH
CALSCALE:GREGORIAN
X-ORIGINAL-URL:http://www.aipn.maxx.matrixdev.net/forms/meeting/Microsite/US26September2024
BEGIN:VEVENT
SUMMARY:US Chapter Luncheon "Development of Battery Energy Storage Projects: Considerations and Market Trends"
LAST-MODIFIED:20240926T173000Z
UID:ci_25405E00000002@matrixgroup.net
CLASS:PUBLIC
CREATED:20240926T173000Z
DTSTAMP:20240926T173000Z
DTSTART:20240926T173000Z
X-FUNAMBOL-ALLDAY:1
LOCATION:Maggiano%27s+Little+Italy
DESCRIPTION:For full info see http://www.aipn.maxx.matrixdev.net/forms/meeting/Microsite/US26September2024\n
DTEND:20240926T190000Z
URL:http://www.aipn.maxx.matrixdev.net/forms/meeting/Microsite/US26September2024
END:VEVENT
END:VCALENDAR