BEGIN:VCALENDAR
PRODID:-//MatrixMaxx//RemoteApi//EN
VERSION:2.0
METHOD:PUBLISH
CALSCALE:GREGORIAN
X-ORIGINAL-URL:http://www.aipn.maxx.matrixdev.net/forms/meeting/Microsite/Europe17October2024
BEGIN:VEVENT
SUMMARY:Europe Chapter Event "Financing West African Upstream Oil and Gas Development and M&A"
LAST-MODIFIED:20241017T161500Z
UID:ci_283F8B00000002@matrixgroup.net
CLASS:PUBLIC
CREATED:20241017T161500Z
DTSTAMP:20241017T161500Z
DTSTART:20241017T161500Z
X-FUNAMBOL-ALLDAY:1
LOCATION:Watson+Farley+%26+Williams
DESCRIPTION:For+full+info+see+http%3A%2F%2Fwww.aipn.maxx.matrixdev.net%2Fforms%2Fmeeting%2FMicrosite%2FEurope17October2024%0A
X-WR-CALDESC:For+full+info+see+http%3A%2F%2Fwww.aipn.maxx.matrixdev.net%2Fforms%2Fmeeting%2FMicrosite%2FEurope17October2024%0A
X-WR-CALNAME:Maxx Calendar
DTEND:20241017T190000Z
URL:http://www.aipn.maxx.matrixdev.net/forms/meeting/Microsite/Europe17October2024
END:VEVENT
END:VCALENDAR