BEGIN:VCALENDAR
PRODID:-//MatrixMaxx//RemoteApi//EN
VERSION:2.0
METHOD:PUBLISH
CALSCALE:GREGORIAN
X-ORIGINAL-URL:http://www.aipn.maxx.matrixdev.net/forms/meeting/Microsite/AP-CCUS-Conference
BEGIN:VEVENT
SUMMARY:AP Chapter Conference "Carbon Capture, Utilization & Storage in the Australian Energy Industry"
LAST-MODIFIED:20241108T000000Z
UID:ci_2A13EB00000002@matrixgroup.net
CLASS:PUBLIC
CREATED:20241108T000000Z
DTSTAMP:20241108T000000Z
DTSTART:20241108T000000Z
X-FUNAMBOL-ALLDAY:1
LOCATION:City+of+Perth+Library+Auditorium
DESCRIPTION:For+full+info+see+http%3A%2F%2Fwww.aipn.maxx.matrixdev.net%2Fforms%2Fmeeting%2FMicrosite%2FAP-CCUS-Conference%0A
X-WR-CALDESC:For+full+info+see+http%3A%2F%2Fwww.aipn.maxx.matrixdev.net%2Fforms%2Fmeeting%2FMicrosite%2FAP-CCUS-Conference%0A
X-WR-CALNAME:Maxx Calendar
DTEND:20241108T100000Z
URL:http://www.aipn.maxx.matrixdev.net/forms/meeting/Microsite/AP-CCUS-Conference
END:VEVENT
END:VCALENDAR