BEGIN:VCALENDAR
PRODID:-//MatrixMaxx//RemoteApi//EN
VERSION:2.0
METHOD:PUBLISH
CALSCALE:GREGORIAN
X-ORIGINAL-URL:http://www.aipn.maxx.matrixdev.net/forms/meeting/Microsite/Europe8October2024
BEGIN:VEVENT
SUMMARY:Europe Chapter Hybrid Event "Hydrogen Strategies in the World"
LAST-MODIFIED:20241008T163000Z
UID:ci_2A822700000002@matrixgroup.net
CLASS:PUBLIC
CREATED:20241008T163000Z
DTSTAMP:20241008T163000Z
DTSTART:20241008T163000Z
X-FUNAMBOL-ALLDAY:1
LOCATION:In-Person+Event+and+Live+Webinar
DESCRIPTION:For+full+info+see+http%3A%2F%2Fwww.aipn.maxx.matrixdev.net%2Fforms%2Fmeeting%2FMicrosite%2FEurope8October2024%0A
X-WR-CALDESC:For+full+info+see+http%3A%2F%2Fwww.aipn.maxx.matrixdev.net%2Fforms%2Fmeeting%2FMicrosite%2FEurope8October2024%0A
X-WR-CALNAME:Maxx Calendar
DTEND:20241008T183000Z
URL:http://www.aipn.maxx.matrixdev.net/forms/meeting/Microsite/Europe8October2024
END:VEVENT
END:VCALENDAR