BEGIN:VCALENDAR
PRODID:-//MatrixMaxx//RemoteApi//EN
VERSION:2.0
METHOD:PUBLISH
CALSCALE:GREGORIAN
X-ORIGINAL-URL:http://www.aipn.maxx.matrixdev.net/forms/meeting/Microsite/CoreCourse2025
BEGIN:VEVENT
SUMMARY:2025 International Oil & Gas Contracts and Negotiations Core Course
LAST-MODIFIED:20250310
UID:ci_2AB0DA00000002@matrixgroup.net
CLASS:PUBLIC
CREATED:20250310
DTSTAMP:20250310
DTSTART:20250310
X-FUNAMBOL-ALLDAY:1
LOCATION:Hilton+Rio+de+Janeiro+Copacabana
DESCRIPTION:For+full+info+see+http%3A%2F%2Fwww.aipn.maxx.matrixdev.net%2Fforms%2Fmeeting%2FMicrosite%2FCoreCourse2025%0AAIEN+2025+International+Oil+%26+Gas+Contracts+and+Negotiations+Course%0D%0AMarch+10+-+14+%0D%0AHilton+Copacabana%2C+Rio+de+Janeiro%2C+Brazil
X-WR-CALDESC:For+full+info+see+http%3A%2F%2Fwww.aipn.maxx.matrixdev.net%2Fforms%2Fmeeting%2FMicrosite%2FCoreCourse2025%0AAIEN+2025+International+Oil+%26+Gas+Contracts+and+Negotiations+Course%0D%0AMarch+10+-+14+%0D%0AHilton+Copacabana%2C+Rio+de+Janeiro%2C+Brazil
X-WR-CALNAME:Maxx Calendar
DTEND:20250315
URL:http://www.aipn.maxx.matrixdev.net/forms/meeting/Microsite/CoreCourse2025
END:VEVENT
END:VCALENDAR