BEGIN:VCALENDAR
PRODID:-//MatrixMaxx//RemoteApi//EN
VERSION:2.0
METHOD:PUBLISH
CALSCALE:GREGORIAN
X-ORIGINAL-URL:http://www.aipn.maxx.matrixdev.net/forms/meeting/Microsite/US29October2024
BEGIN:VEVENT
SUMMARY:US Chapter and BRATECC Event "Investment Opportunities in Brazil's Energy Sector: Short, Medium, and Long-Term Prospects"
LAST-MODIFIED:20241029T133000Z
UID:ci_2B151400000002@matrixgroup.net
CLASS:PUBLIC
CREATED:20241029T133000Z
DTSTAMP:20241029T133000Z
DTSTART:20241029T133000Z
X-FUNAMBOL-ALLDAY:1
LOCATION:Baker+McKenzie
DESCRIPTION:For+full+info+see+http%3A%2F%2Fwww.aipn.maxx.matrixdev.net%2Fforms%2Fmeeting%2FMicrosite%2FUS29October2024%0A
X-WR-CALDESC:For+full+info+see+http%3A%2F%2Fwww.aipn.maxx.matrixdev.net%2Fforms%2Fmeeting%2FMicrosite%2FUS29October2024%0A
X-WR-CALNAME:Maxx Calendar
DTEND:20241029T163000Z
URL:http://www.aipn.maxx.matrixdev.net/forms/meeting/Microsite/US29October2024
END:VEVENT
END:VCALENDAR