BEGIN:VCALENDAR
PRODID:-//MatrixMaxx//RemoteApi//EN
VERSION:2.0
METHOD:PUBLISH
CALSCALE:GREGORIAN
X-ORIGINAL-URL:http://www.aipn.maxx.matrixdev.net/forms/meeting/Microsite/LARC30October2024
BEGIN:VEVENT
SUMMARY:Mexico Sub-Chapter of LARC Networking Reception
LAST-MODIFIED:20241031T000000Z
UID:ci_2C3D3700000002@matrixgroup.net
CLASS:PUBLIC
CREATED:20241031T000000Z
DTSTAMP:20241031T000000Z
DTSTART:20241031T000000Z
X-FUNAMBOL-ALLDAY:1
LOCATION:Club+de+Industriales
DESCRIPTION:For+full+info+see+http%3A%2F%2Fwww.aipn.maxx.matrixdev.net%2Fforms%2Fmeeting%2FMicrosite%2FLARC30October2024%0A
X-WR-CALDESC:For+full+info+see+http%3A%2F%2Fwww.aipn.maxx.matrixdev.net%2Fforms%2Fmeeting%2FMicrosite%2FLARC30October2024%0A
X-WR-CALNAME:Maxx Calendar
DTEND:20241031T030000Z
URL:http://www.aipn.maxx.matrixdev.net/forms/meeting/Microsite/LARC30October2024
END:VEVENT
END:VCALENDAR