BEGIN:VCALENDAR
PRODID:-//MatrixMaxx//RemoteApi//EN
VERSION:2.0
METHOD:PUBLISH
CALSCALE:GREGORIAN
X-ORIGINAL-URL:http://www.aipn.maxx.matrixdev.net/forms/meeting/Microsite/US13November2024
BEGIN:VEVENT
SUMMARY:US Chapter Luncheon "Mexico’s Energy Future: Post-Election Policies and Reforms"
LAST-MODIFIED:20241113T180000Z
UID:ci_2C402900000002@matrixgroup.net
CLASS:PUBLIC
CREATED:20241113T180000Z
DTSTAMP:20241113T180000Z
DTSTART:20241113T180000Z
X-FUNAMBOL-ALLDAY:1
LOCATION:Baker+McKenzie
DESCRIPTION:For+full+info+see+http%3A%2F%2Fwww.aipn.maxx.matrixdev.net%2Fforms%2Fmeeting%2FMicrosite%2FUS13November2024%0A
X-WR-CALDESC:For+full+info+see+http%3A%2F%2Fwww.aipn.maxx.matrixdev.net%2Fforms%2Fmeeting%2FMicrosite%2FUS13November2024%0A
X-WR-CALNAME:Maxx Calendar
DTEND:20241113T200000Z
URL:http://www.aipn.maxx.matrixdev.net/forms/meeting/Microsite/US13November2024
END:VEVENT
END:VCALENDAR