BEGIN:VCALENDAR
PRODID:-//MatrixMaxx//RemoteApi//EN
VERSION:2.0
METHOD:PUBLISH
CALSCALE:GREGORIAN
X-ORIGINAL-URL:http://www.aipn.maxx.matrixdev.net/forms/meeting/Microsite/GasCourse2025
BEGIN:VEVENT
SUMMARY:2025 Gas Course: From PSC to LNG
LAST-MODIFIED:20250721
UID:ci_2CF8E300000001@matrixgroup.net
CLASS:PUBLIC
CREATED:20250721
DTSTAMP:20250721
DTSTART:20250721
X-FUNAMBOL-ALLDAY:1
LOCATION:InterContinental+Hotel
DESCRIPTION:For+full+info+see+http%3A%2F%2Fwww.aipn.maxx.matrixdev.net%2Fforms%2Fmeeting%2FMicrosite%2FGasCourse2025%0A2025+AIEN+Gas+Course%3A+From+PSC+to+LNG%0D%0AJuly+22+-+24%2C+2025%2C+Kuala+Lumpur%2C+Malaysia
X-WR-CALDESC:For+full+info+see+http%3A%2F%2Fwww.aipn.maxx.matrixdev.net%2Fforms%2Fmeeting%2FMicrosite%2FGasCourse2025%0A2025+AIEN+Gas+Course%3A+From+PSC+to+LNG%0D%0AJuly+22+-+24%2C+2025%2C+Kuala+Lumpur%2C+Malaysia
X-WR-CALNAME:Maxx Calendar
DTEND:20250724
URL:http://www.aipn.maxx.matrixdev.net/forms/meeting/Microsite/GasCourse2025
END:VEVENT
END:VCALENDAR