BEGIN:VCALENDAR
PRODID:-//MatrixMaxx//RemoteApi//EN
VERSION:2.0
METHOD:PUBLISH
CALSCALE:GREGORIAN
X-ORIGINAL-URL:http://www.aipn.maxx.matrixdev.net/forms/meeting/Microsite/Europe28November2024
BEGIN:VEVENT
SUMMARY:Europe Chapter Hybrid Event "Perspectives on Allocation of Risk in Energy Projects and Services: Oil and Gas to Renewables"
LAST-MODIFIED:20241128T170000Z
UID:ci_2DE82600000002@matrixgroup.net
CLASS:PUBLIC
CREATED:20241128T170000Z
DTSTAMP:20241128T170000Z
DTSTART:20241128T170000Z
X-FUNAMBOL-ALLDAY:1
LOCATION:In-Person+Event+and+Live+Webinar
DESCRIPTION:For full info see http://www.aipn.maxx.matrixdev.net/forms/meeting/Microsite/Europe28November2024\n
DTEND:20241128T200000Z
URL:http://www.aipn.maxx.matrixdev.net/forms/meeting/Microsite/Europe28November2024
END:VEVENT
END:VCALENDAR