BEGIN:VCALENDAR
PRODID:-//MatrixMaxx//RemoteApi//EN
VERSION:2.0
METHOD:PUBLISH
CALSCALE:GREGORIAN
X-ORIGINAL-URL:http://www.aipn.maxx.matrixdev.net/forms/meeting/Microsite/Africa26November2024
BEGIN:VEVENT
SUMMARY:AIEN-YN Africa Chapter Networking Reception
LAST-MODIFIED:20241126T120000Z
UID:ci_2DF91600000001@matrixgroup.net
CLASS:PUBLIC
CREATED:20241126T120000Z
DTSTAMP:20241126T120000Z
DTSTART:20241126T120000Z
X-FUNAMBOL-ALLDAY:1
LOCATION:ALN+Kenya
DESCRIPTION:For+full+info+see+http%3A%2F%2Fwww.aipn.maxx.matrixdev.net%2Fforms%2Fmeeting%2FMicrosite%2FAfrica26November2024%0A
X-WR-CALDESC:For+full+info+see+http%3A%2F%2Fwww.aipn.maxx.matrixdev.net%2Fforms%2Fmeeting%2FMicrosite%2FAfrica26November2024%0A
X-WR-CALNAME:Maxx Calendar
DTEND:20241126T143000Z
URL:http://www.aipn.maxx.matrixdev.net/forms/meeting/Microsite/Africa26November2024
END:VEVENT
END:VCALENDAR