BEGIN:VCALENDAR
PRODID:-//MatrixMaxx//RemoteApi//EN
VERSION:2.0
METHOD:PUBLISH
CALSCALE:GREGORIAN
X-ORIGINAL-URL:http://www.aipn.maxx.matrixdev.net/forms/meeting/Microsite/Webinar21November2024
BEGIN:VEVENT
SUMMARY:Live Webinar: "EU Energy Regulations - EU Emissions Trading System (ETS & ETS 2) and Costs of Implementation"
LAST-MODIFIED:20241121T120000Z
UID:ci_2EFFCC00000002@matrixgroup.net
CLASS:PUBLIC
CREATED:20241121T120000Z
DTSTAMP:20241121T120000Z
DTSTART:20241121T120000Z
X-FUNAMBOL-ALLDAY:1
LOCATION:Live+Webinar
DESCRIPTION:For full info see http://www.aipn.maxx.matrixdev.net/forms/meeting/Microsite/Webinar21November2024\n
DTEND:20241121T133000Z
URL:http://www.aipn.maxx.matrixdev.net/forms/meeting/Microsite/Webinar21November2024
END:VEVENT
END:VCALENDAR