BEGIN:VCALENDAR
PRODID:-//MatrixMaxx//RemoteApi//EN
VERSION:2.0
METHOD:PUBLISH
CALSCALE:GREGORIAN
X-ORIGINAL-URL:http://www.aipn.maxx.matrixdev.net/forms/meeting/Microsite/Europe4December2024
BEGIN:VEVENT
SUMMARY:Europe Chapter Holiday Reception
LAST-MODIFIED:20241204T180000Z
UID:ci_30307A00000002@matrixgroup.net
CLASS:PUBLIC
CREATED:20241204T180000Z
DTSTAMP:20241204T180000Z
DTSTART:20241204T180000Z
X-FUNAMBOL-ALLDAY:1
LOCATION:Vinson+%26+Elkins+LLP
DESCRIPTION:For full info see http://www.aipn.maxx.matrixdev.net/forms/meeting/Microsite/Europe4December2024\n
DTEND:20241204T210000Z
URL:http://www.aipn.maxx.matrixdev.net/forms/meeting/Microsite/Europe4December2024
END:VEVENT
END:VCALENDAR