BEGIN:VCALENDAR
PRODID:-//MatrixMaxx//RemoteApi//EN
VERSION:2.0
METHOD:PUBLISH
CALSCALE:GREGORIAN
X-ORIGINAL-URL:http://www.aipn.maxx.matrixdev.net/forms/meeting/Microsite/EuropeParis12December2024
BEGIN:VEVENT
SUMMARY:Europe Chapter Hybrid Event "World Energy Outlooks"
LAST-MODIFIED:20241212T163000Z
UID:ci_33F07A00000001@matrixgroup.net
CLASS:PUBLIC
CREATED:20241212T163000Z
DTSTAMP:20241212T163000Z
DTSTART:20241212T163000Z
X-FUNAMBOL-ALLDAY:1
LOCATION:In-Person+Event+and+Live+Webinar
DESCRIPTION:For full info see http://www.aipn.maxx.matrixdev.net/forms/meeting/Microsite/EuropeParis12December2024\n
DTEND:20241212T193000Z
URL:http://www.aipn.maxx.matrixdev.net/forms/meeting/Microsite/EuropeParis12December2024
END:VEVENT
END:VCALENDAR