BEGIN:VCALENDAR
PRODID:-//MatrixMaxx//RemoteApi//EN
VERSION:2.0
METHOD:PUBLISH
CALSCALE:GREGORIAN
X-ORIGINAL-URL:http://www.aipn.maxx.matrixdev.net/forms/meeting/MeetingFormPublic/view?id=343A4D000000C1
BEGIN:VEVENT
SUMMARY:Dispute Resolution in the International Energy Business
LAST-MODIFIED:20251002
UID:ci_343A4D000000C1@matrixgroup.net
CLASS:PUBLIC
CREATED:20251002
DTSTAMP:20251002
DTSTART:20251002
X-FUNAMBOL-ALLDAY:1
LOCATION:Fairmont+Hotel
DESCRIPTION:For full info see http://www.aipn.maxx.matrixdev.net/forms/meeting/MeetingFormPublic/view?id=343A4D000000C1\n2025 Dispute Resolution Conference\nAIEN & ICC\nFairmont Hotel, Rio de Janeiro, Brazil
DTEND:20251004
URL:http://www.aipn.maxx.matrixdev.net/forms/meeting/MeetingFormPublic/view?id=343A4D000000C1
END:VEVENT
END:VCALENDAR