BEGIN:VCALENDAR
PRODID:-//MatrixMaxx//RemoteApi//EN
VERSION:2.0
METHOD:PUBLISH
CALSCALE:GREGORIAN
X-ORIGINAL-URL:http://www.aipn.maxx.matrixdev.net/forms/meeting/Microsite/VWS2025
BEGIN:VEVENT
SUMMARY:Valuation Workshop
LAST-MODIFIED:20251022
UID:ci_3637E800000001@matrixgroup.net
CLASS:PUBLIC
CREATED:20251022
DTSTAMP:20251022
DTSTART:20251022
X-FUNAMBOL-ALLDAY:1
LOCATION:116+Pall+Mall
DESCRIPTION:For full info see http://www.aipn.maxx.matrixdev.net/forms/meeting/Microsite/VWS2025\n
DTEND:20251024
URL:http://www.aipn.maxx.matrixdev.net/forms/meeting/Microsite/VWS2025
END:VEVENT
END:VCALENDAR