BEGIN:VCALENDAR
PRODID:-//MatrixMaxx//RemoteApi//EN
VERSION:2.0
METHOD:PUBLISH
CALSCALE:GREGORIAN
X-ORIGINAL-URL:http://www.aipn.maxx.matrixdev.net/forms/meeting/Microsite/NOC-Conference2025
BEGIN:VEVENT
SUMMARY:NOC Conference & Workshops
LAST-MODIFIED:20251019
UID:ci_36391900000001@matrixgroup.net
CLASS:PUBLIC
CREATED:20251019
DTSTAMP:20251019
DTSTART:20251019
X-FUNAMBOL-ALLDAY:1
LOCATION:116+Pall+Mall
DESCRIPTION:For+full+info+see+http%3A%2F%2Fwww.aipn.maxx.matrixdev.net%2Fforms%2Fmeeting%2FMicrosite%2FNOC-Conference2025%0A
X-WR-CALDESC:For+full+info+see+http%3A%2F%2Fwww.aipn.maxx.matrixdev.net%2Fforms%2Fmeeting%2FMicrosite%2FNOC-Conference2025%0A
X-WR-CALNAME:Maxx Calendar
DTEND:20251022
URL:http://www.aipn.maxx.matrixdev.net/forms/meeting/Microsite/NOC-Conference2025
END:VEVENT
END:VCALENDAR