BEGIN:VCALENDAR
PRODID:-//MatrixMaxx//RemoteApi//EN
VERSION:2.0
METHOD:PUBLISH
CALSCALE:GREGORIAN
X-ORIGINAL-URL:http://www.aipn.maxx.matrixdev.net/forms/meeting/Microsite/US28January2025
BEGIN:VEVENT
SUMMARY:RESCHEDULED: US Chapter Luncheon "Key Insights into the Electric Vehicle Industry"
LAST-MODIFIED:20250128T173000Z
UID:ci_375C8100000003@matrixgroup.net
CLASS:PUBLIC
CREATED:20250128T173000Z
DTSTAMP:20250128T173000Z
DTSTART:20250128T173000Z
X-FUNAMBOL-ALLDAY:1
LOCATION:Shell
DESCRIPTION:For full info see http://www.aipn.maxx.matrixdev.net/forms/meeting/Microsite/US28January2025\n
DTEND:20250128T193000Z
URL:http://www.aipn.maxx.matrixdev.net/forms/meeting/Microsite/US28January2025
END:VEVENT
END:VCALENDAR