BEGIN:VCALENDAR
PRODID:-//MatrixMaxx//RemoteApi//EN
VERSION:2.0
METHOD:PUBLISH
CALSCALE:GREGORIAN
X-ORIGINAL-URL:http://www.aipn.maxx.matrixdev.net/forms/meeting/Microsite/US27March2025
BEGIN:VEVENT
SUMMARY:US Chapter Luncheon "Greenwashing Litigation: 2025 Trends"
LAST-MODIFIED:20250327T163000Z
UID:ci_3A8F9200000002@matrixgroup.net
CLASS:PUBLIC
CREATED:20250327T163000Z
DTSTAMP:20250327T163000Z
DTSTART:20250327T163000Z
X-FUNAMBOL-ALLDAY:1
LOCATION:Baker+McKenzie
DESCRIPTION:For+full+info+see+http%3A%2F%2Fwww.aipn.maxx.matrixdev.net%2Fforms%2Fmeeting%2FMicrosite%2FUS27March2025%0A
X-WR-CALDESC:For+full+info+see+http%3A%2F%2Fwww.aipn.maxx.matrixdev.net%2Fforms%2Fmeeting%2FMicrosite%2FUS27March2025%0A
X-WR-CALNAME:Maxx Calendar
DTEND:20250327T183000Z
URL:http://www.aipn.maxx.matrixdev.net/forms/meeting/Microsite/US27March2025
END:VEVENT
END:VCALENDAR