BEGIN:VCALENDAR
PRODID:-//MatrixMaxx//RemoteApi//EN
VERSION:2.0
METHOD:PUBLISH
CALSCALE:GREGORIAN
X-ORIGINAL-URL:http://www.aipn.maxx.matrixdev.net/forms/meeting/Microsite/Webinar3March2025
BEGIN:VEVENT
SUMMARY:Live Webinar: "Accelerate Action - Women Leading the Energy Future"
LAST-MODIFIED:20250303T140000Z
UID:ci_3F7DBF00000002@matrixgroup.net
CLASS:PUBLIC
CREATED:20250303T140000Z
DTSTAMP:20250303T140000Z
DTSTART:20250303T140000Z
X-FUNAMBOL-ALLDAY:1
LOCATION:Live+Webinar
DESCRIPTION:For+full+info+see+http%3A%2F%2Fwww.aipn.maxx.matrixdev.net%2Fforms%2Fmeeting%2FMicrosite%2FWebinar3March2025%0A
X-WR-CALDESC:For+full+info+see+http%3A%2F%2Fwww.aipn.maxx.matrixdev.net%2Fforms%2Fmeeting%2FMicrosite%2FWebinar3March2025%0A
X-WR-CALNAME:Maxx Calendar
DTEND:20250303T154500Z
URL:http://www.aipn.maxx.matrixdev.net/forms/meeting/Microsite/Webinar3March2025
END:VEVENT
END:VCALENDAR