BEGIN:VCALENDAR
PRODID:-//MatrixMaxx//RemoteApi//EN
VERSION:2.0
METHOD:PUBLISH
CALSCALE:GREGORIAN
X-ORIGINAL-URL:http://www.aipn.maxx.matrixdev.net/forms/meeting/Microsite/LARC11March2025
BEGIN:VEVENT
SUMMARY:Latin America and Caribbean Chapter Event "Women Diversifying the Energy Industry"
LAST-MODIFIED:20250311T213000Z
UID:ci_3F820400000002@matrixgroup.net
CLASS:PUBLIC
CREATED:20250311T213000Z
DTSTAMP:20250311T213000Z
DTSTART:20250311T213000Z
X-FUNAMBOL-ALLDAY:1
LOCATION:Mattos+Filho+Advogados
DESCRIPTION:For+full+info+see+http%3A%2F%2Fwww.aipn.maxx.matrixdev.net%2Fforms%2Fmeeting%2FMicrosite%2FLARC11March2025%0A
X-WR-CALDESC:For+full+info+see+http%3A%2F%2Fwww.aipn.maxx.matrixdev.net%2Fforms%2Fmeeting%2FMicrosite%2FLARC11March2025%0A
X-WR-CALNAME:Maxx Calendar
DTEND:20250312T003000Z
URL:http://www.aipn.maxx.matrixdev.net/forms/meeting/Microsite/LARC11March2025
END:VEVENT
END:VCALENDAR