BEGIN:VCALENDAR
PRODID:-//MatrixMaxx//RemoteApi//EN
VERSION:2.0
METHOD:PUBLISH
CALSCALE:GREGORIAN
X-ORIGINAL-URL:http://www.aipn.maxx.matrixdev.net/forms/meeting/Microsite/Asia13March2025
BEGIN:VEVENT
SUMMARY:Asia Chapter Event "Meet the Women (Em)powering Asia’s Energy Industry"
LAST-MODIFIED:20250313T103000Z
UID:ci_3F838300000001@matrixgroup.net
CLASS:PUBLIC
CREATED:20250313T103000Z
DTSTAMP:20250313T103000Z
DTSTART:20250313T103000Z
X-FUNAMBOL-ALLDAY:1
LOCATION:King+%26+Spalding+LLP
DESCRIPTION:For+full+info+see+http%3A%2F%2Fwww.aipn.maxx.matrixdev.net%2Fforms%2Fmeeting%2FMicrosite%2FAsia13March2025%0A
X-WR-CALDESC:For+full+info+see+http%3A%2F%2Fwww.aipn.maxx.matrixdev.net%2Fforms%2Fmeeting%2FMicrosite%2FAsia13March2025%0A
X-WR-CALNAME:Maxx Calendar
DTEND:20250313T133000Z
URL:http://www.aipn.maxx.matrixdev.net/forms/meeting/Microsite/Asia13March2025
END:VEVENT
END:VCALENDAR