BEGIN:VCALENDAR
PRODID:-//MatrixMaxx//RemoteApi//EN
VERSION:2.0
METHOD:PUBLISH
CALSCALE:GREGORIAN
X-ORIGINAL-URL:http://www.aipn.maxx.matrixdev.net/forms/meeting/Microsite/Europe20March2025
BEGIN:VEVENT
SUMMARY:Europe Chapter Event "Empowering Change - Break Bias and Build Inclusion in the Energy Sector"
LAST-MODIFIED:20250320T180000Z
UID:ci_3F98C200000001@matrixgroup.net
CLASS:PUBLIC
CREATED:20250320T180000Z
DTSTAMP:20250320T180000Z
DTSTART:20250320T180000Z
X-FUNAMBOL-ALLDAY:1
LOCATION:Vinson+%26+Elkins+LLP
DESCRIPTION:For full info see http://www.aipn.maxx.matrixdev.net/forms/meeting/Microsite/Europe20March2025\n
DTEND:20250320T210000Z
URL:http://www.aipn.maxx.matrixdev.net/forms/meeting/Microsite/Europe20March2025
END:VEVENT
END:VCALENDAR