BEGIN:VCALENDAR
PRODID:-//MatrixMaxx//RemoteApi//EN
VERSION:2.0
METHOD:PUBLISH
CALSCALE:GREGORIAN
X-ORIGINAL-URL:http://www.aipn.maxx.matrixdev.net/forms/meeting/Microsite/Webinar27February2025
BEGIN:VEVENT
SUMMARY:Live Webinar: "Closing Out CCUS Taskforce - Key Takeaways, Term Sheet Recommendations, and Future Outlook"
LAST-MODIFIED:20250227T140000Z
UID:ci_4006A000000002@matrixgroup.net
CLASS:PUBLIC
CREATED:20250227T140000Z
DTSTAMP:20250227T140000Z
DTSTART:20250227T140000Z
X-FUNAMBOL-ALLDAY:1
LOCATION:Live+Webinar
DESCRIPTION:For full info see http://www.aipn.maxx.matrixdev.net/forms/meeting/Microsite/Webinar27February2025\n
DTEND:20250227T150000Z
URL:http://www.aipn.maxx.matrixdev.net/forms/meeting/Microsite/Webinar27February2025
END:VEVENT
END:VCALENDAR