BEGIN:VCALENDAR
PRODID:-//MatrixMaxx//RemoteApi//EN
VERSION:2.0
METHOD:PUBLISH
CALSCALE:GREGORIAN
X-ORIGINAL-URL:http://www.aipn.maxx.matrixdev.net/forms/meeting/Microsite/Asia6March2025
BEGIN:VEVENT
SUMMARY:Asia Chapter Event "Challenges and Opportunities in the Philippine Energy Sector"
LAST-MODIFIED:20250306T080000Z
UID:ci_4129F100000002@matrixgroup.net
CLASS:PUBLIC
CREATED:20250306T080000Z
DTSTAMP:20250306T080000Z
DTSTART:20250306T080000Z
X-FUNAMBOL-ALLDAY:1
LOCATION:PNOC+Networking+Hall
DESCRIPTION:For full info see http://www.aipn.maxx.matrixdev.net/forms/meeting/Microsite/Asia6March2025\n
DTEND:20250306T100000Z
URL:http://www.aipn.maxx.matrixdev.net/forms/meeting/Microsite/Asia6March2025
END:VEVENT
END:VCALENDAR