BEGIN:VCALENDAR
PRODID:-//MatrixMaxx//RemoteApi//EN
VERSION:2.0
METHOD:PUBLISH
CALSCALE:GREGORIAN
X-ORIGINAL-URL:http://www.aipn.maxx.matrixdev.net/forms/meeting/Microsite/USYN25March2025
BEGIN:VEVENT
SUMMARY:AIEN-YN US Chapter Event "What's in a Name? Dealing Effectively with Pre-Contractual Documents"
LAST-MODIFIED:20250325T170000Z
UID:ci_4164CD00000002@matrixgroup.net
CLASS:PUBLIC
CREATED:20250325T170000Z
DTSTAMP:20250325T170000Z
DTSTART:20250325T170000Z
X-FUNAMBOL-ALLDAY:1
LOCATION:University+of+Houston+Law+Center
DESCRIPTION:For+full+info+see+http%3A%2F%2Fwww.aipn.maxx.matrixdev.net%2Fforms%2Fmeeting%2FMicrosite%2FUSYN25March2025%0A
X-WR-CALDESC:For+full+info+see+http%3A%2F%2Fwww.aipn.maxx.matrixdev.net%2Fforms%2Fmeeting%2FMicrosite%2FUSYN25March2025%0A
X-WR-CALNAME:Maxx Calendar
DTEND:20250325T175000Z
URL:http://www.aipn.maxx.matrixdev.net/forms/meeting/Microsite/USYN25March2025
END:VEVENT
END:VCALENDAR