BEGIN:VCALENDAR
PRODID:-//MatrixMaxx//RemoteApi//EN
VERSION:2.0
METHOD:PUBLISH
CALSCALE:GREGORIAN
X-ORIGINAL-URL:http://www.aipn.maxx.matrixdev.net/forms/meeting/Microsite/Asia10April2025
BEGIN:VEVENT
SUMMARY:Asia Chapter Event "Disputed Maritime Boundaries in Hydrocarbon-Rich Areas"
LAST-MODIFIED:20250410T100000Z
UID:ci_41683200000002@matrixgroup.net
CLASS:PUBLIC
CREATED:20250410T100000Z
DTSTAMP:20250410T100000Z
DTSTART:20250410T100000Z
X-FUNAMBOL-ALLDAY:1
LOCATION:Dallas+Restaurant+and+Bar
DESCRIPTION:For full info see http://www.aipn.maxx.matrixdev.net/forms/meeting/Microsite/Asia10April2025\n
DTEND:20250410T130000Z
URL:http://www.aipn.maxx.matrixdev.net/forms/meeting/Microsite/Asia10April2025
END:VEVENT
END:VCALENDAR