BEGIN:VCALENDAR
PRODID:-//MatrixMaxx//RemoteApi//EN
VERSION:2.0
METHOD:PUBLISH
CALSCALE:GREGORIAN
X-ORIGINAL-URL:http://www.aipn.maxx.matrixdev.net/forms/meeting/MeetingFormPublic/view?id=5E390000015F
BEGIN:VEVENT
SUMMARY:Canada Chapter Event "Joint Operating Agreements: The AIPN and the CAPL Model"
LAST-MODIFIED:20170927T180000Z
UID:ci_5E390000015F@matrixgroup.net
CLASS:PUBLIC
CREATED:20170927T180000Z
DTSTAMP:20170927T180000Z
DTSTART:20170927T180000Z
X-FUNAMBOL-ALLDAY:1
LOCATION:Dentons+Canada+LLP
DESCRIPTION:For full info see http://www.aipn.maxx.matrixdev.net/forms/meeting/MeetingFormPublic/view?id=5E390000015F\n
DTEND:20170927T190000Z
URL:http://www.aipn.maxx.matrixdev.net/forms/meeting/MeetingFormPublic/view?id=5E390000015F
END:VEVENT
END:VCALENDAR