BEGIN:VCALENDAR
PRODID:-//MatrixMaxx//RemoteApi//EN
VERSION:2.0
METHOD:PUBLISH
CALSCALE:GREGORIAN
X-ORIGINAL-URL:http://www.aipn.maxx.matrixdev.net/forms/meeting/MeetingFormPublic/view?id=5FE7000001C1
BEGIN:VEVENT
SUMMARY:Canada Chapter Event "Aboriginal Consultation Comes to the Offshore"
LAST-MODIFIED:20170928T180000Z
UID:ci_5FE7000001C1@matrixgroup.net
CLASS:PUBLIC
CREATED:20170928T180000Z
DTSTAMP:20170928T180000Z
DTSTART:20170928T180000Z
X-FUNAMBOL-ALLDAY:1
LOCATION:The+Rocket+Room
DESCRIPTION:For+full+info+see+http%3A%2F%2Fwww.aipn.maxx.matrixdev.net%2Fforms%2Fmeeting%2FMeetingFormPublic%2Fview%3Fid%3D5FE7000001C1%0A
X-WR-CALDESC:For+full+info+see+http%3A%2F%2Fwww.aipn.maxx.matrixdev.net%2Fforms%2Fmeeting%2FMeetingFormPublic%2Fview%3Fid%3D5FE7000001C1%0A
X-WR-CALNAME:Maxx Calendar
DTEND:20170928T200000Z
URL:http://www.aipn.maxx.matrixdev.net/forms/meeting/MeetingFormPublic/view?id=5FE7000001C1
END:VEVENT
END:VCALENDAR