BEGIN:VCALENDAR
PRODID:-//MatrixMaxx//RemoteApi//EN
VERSION:2.0
METHOD:PUBLISH
CALSCALE:GREGORIAN
X-ORIGINAL-URL:http://www.aipn.maxx.matrixdev.net/forms/meeting/MeetingFormPublic/view?id=5FF000000520
BEGIN:VEVENT
SUMMARY:EA Chapter Event "Arbitration Strategy and Funding"
LAST-MODIFIED:20171018T163000Z
UID:ci_5FF000000520@matrixgroup.net
CLASS:PUBLIC
CREATED:20171018T163000Z
DTSTAMP:20171018T163000Z
DTSTART:20171018T163000Z
X-FUNAMBOL-ALLDAY:1
LOCATION:Addleshaw+Goddard+LLP
DESCRIPTION:For full info see http://www.aipn.maxx.matrixdev.net/forms/meeting/MeetingFormPublic/view?id=5FF000000520\n
DTEND:20171018T193000Z
URL:http://www.aipn.maxx.matrixdev.net/forms/meeting/MeetingFormPublic/view?id=5FF000000520
END:VEVENT
END:VCALENDAR