BEGIN:VCALENDAR
PRODID:-//MatrixMaxx//RemoteApi//EN
VERSION:2.0
METHOD:PUBLISH
CALSCALE:GREGORIAN
X-ORIGINAL-URL:http://www.aipn.maxx.matrixdev.net/forms/meeting/MeetingFormPublic/view?id=664F00000066
BEGIN:VEVENT
SUMMARY:Middle East Chapter Event "Protecting Oil & Gas Investments: Securing and Invoking Invaluable Investment Treaty Protection and Recent Key Developments"
LAST-MODIFIED:20171016T143000Z
UID:ci_664F00000066@matrixgroup.net
CLASS:PUBLIC
CREATED:20171016T143000Z
DTSTAMP:20171016T143000Z
DTSTART:20171016T143000Z
X-FUNAMBOL-ALLDAY:1
LOCATION:Capital+Club
DESCRIPTION:For full info see http://www.aipn.maxx.matrixdev.net/forms/meeting/MeetingFormPublic/view?id=664F00000066\n
DTEND:20171016T163000Z
URL:http://www.aipn.maxx.matrixdev.net/forms/meeting/MeetingFormPublic/view?id=664F00000066
END:VEVENT
END:VCALENDAR